BEGIN:VCALENDAR
VERSION:2.0
PRODID:-//We Keep Us Safe - ECPv6.15.20//NONSGML v1.0//EN
CALSCALE:GREGORIAN
METHOD:PUBLISH
X-ORIGINAL-URL:https://wkus-co.org/wordpress
X-WR-CALDESC:Events for We Keep Us Safe
REFRESH-INTERVAL;VALUE=DURATION:PT1H
X-Robots-Tag:noindex
X-PUBLISHED-TTL:PT1H
BEGIN:VTIMEZONE
TZID:America/Denver
BEGIN:DAYLIGHT
TZOFFSETFROM:-0700
TZOFFSETTO:-0600
TZNAME:MDT
DTSTART:20240310T090000
END:DAYLIGHT
BEGIN:STANDARD
TZOFFSETFROM:-0600
TZOFFSETTO:-0700
TZNAME:MST
DTSTART:20241103T080000
END:STANDARD
BEGIN:DAYLIGHT
TZOFFSETFROM:-0700
TZOFFSETTO:-0600
TZNAME:MDT
DTSTART:20250309T090000
END:DAYLIGHT
BEGIN:STANDARD
TZOFFSETFROM:-0600
TZOFFSETTO:-0700
TZNAME:MST
DTSTART:20251102T080000
END:STANDARD
BEGIN:DAYLIGHT
TZOFFSETFROM:-0700
TZOFFSETTO:-0600
TZNAME:MDT
DTSTART:20260308T090000
END:DAYLIGHT
BEGIN:STANDARD
TZOFFSETFROM:-0600
TZOFFSETTO:-0700
TZNAME:MST
DTSTART:20261101T080000
END:STANDARD
END:VTIMEZONE
BEGIN:VEVENT
DTSTART;TZID=America/Denver:20251228T150000
DTEND;TZID=America/Denver:20251228T163000
DTSTAMP:20260424T200916
CREATED:20251222T161606Z
LAST-MODIFIED:20251222T180116Z
UID:46-1766934000-1766939400@wkus-co.org
SUMMARY:Community Response to ICE training - We Keep Us Safe - Virtual only
DESCRIPTION:The purpose of this training is to teach what our legal rights are during interactions with law enforcement\, how to ID ICE\, and how to respond when you see an ICE raid happening. Our goals are to document\, support our community members who are being targeted\, and de-escalate as much as we can to reduce potential violence from officers. These steps are based off historical successes\, tactics currently being used in cities like LA and Chicago\, and actions our local immigration organizations are taking. Every community is different so these steps and procedures can vary according to where you are and how much support you have on scene. \nYou can RSVP on our encrypted form here so we can send you the link to the training and the written materials or click the zoom link provided in the details section at 3pm on December 28th! \nThis training is virtual only and presented by We Keep Us Safe: El Pueblo Unido Contra ICE. We Keep Us Safe is a grassroots initiative to help the metro Denver area organize proactively and effectively to protect our community members from being illegally and inhumanely kidnapped by ICE. We are developing a hub of resources and best practices targeted towards the Denver area\, but many of the resources are statewide. We are educating and activating community members through canvassing\, training\, and outreach. Our goal is to support interested volunteers across the Metro Denver area in building community and solidarity–and to support volunteers in effectively self-organizing in the face of state violence.
URL:https://wkus-co.org/wordpress/event/community-response-to-ice-training-we-keep-us-safe-virtual-only/
LOCATION:Virtual
END:VEVENT
END:VCALENDAR