BEGIN:VCALENDAR
VERSION:2.0
PRODID:-//We Keep Us Safe - ECPv6.15.20//NONSGML v1.0//EN
CALSCALE:GREGORIAN
METHOD:PUBLISH
X-ORIGINAL-URL:https://wkus-co.org/wordpress
X-WR-CALDESC:Events for We Keep Us Safe
REFRESH-INTERVAL;VALUE=DURATION:PT1H
X-Robots-Tag:noindex
X-PUBLISHED-TTL:PT1H
BEGIN:VTIMEZONE
TZID:America/Denver
BEGIN:DAYLIGHT
TZOFFSETFROM:-0700
TZOFFSETTO:-0600
TZNAME:MDT
DTSTART:20250309T090000
END:DAYLIGHT
BEGIN:STANDARD
TZOFFSETFROM:-0600
TZOFFSETTO:-0700
TZNAME:MST
DTSTART:20251102T080000
END:STANDARD
BEGIN:DAYLIGHT
TZOFFSETFROM:-0700
TZOFFSETTO:-0600
TZNAME:MDT
DTSTART:20260308T090000
END:DAYLIGHT
BEGIN:STANDARD
TZOFFSETFROM:-0600
TZOFFSETTO:-0700
TZNAME:MST
DTSTART:20261101T080000
END:STANDARD
BEGIN:DAYLIGHT
TZOFFSETFROM:-0700
TZOFFSETTO:-0600
TZNAME:MDT
DTSTART:20270314T090000
END:DAYLIGHT
BEGIN:STANDARD
TZOFFSETFROM:-0600
TZOFFSETTO:-0700
TZNAME:MST
DTSTART:20271107T080000
END:STANDARD
END:VTIMEZONE
BEGIN:VEVENT
DTSTART;TZID=America/Denver:20260312T180000
DTEND;TZID=America/Denver:20260312T194500
DTSTAMP:20260424T124857
CREATED:20260223T215637Z
LAST-MODIFIED:20260223T215637Z
UID:146-1773338400-1773344700@wkus-co.org
SUMMARY:Community Defense Groups - Virtual training - We Keep Us Safe CO
DESCRIPTION:This training will cover the basics of how to get started organizing a community defense group and patrols to protect our neighbors that are being targeted by this fascist regime. There are many roles behind the scenes and a lot of footwork involved\, especially for those of us not currently connected within our community. Having strong community connections and support is essential for all of us to endure and prevail against authoritarianism! Every community is different\, but this training will give you basic guidelines to follow and safety tips. We will cover the early steps\, how to structure a rapid response team in the event of an ICE encounter\, and some other ways to help outside of patrols. This training will be useful even if you have already started organizing! \nThis training will be entirely virtual and open to the public. You can RSVP on our encrypted form here with your email address so we can send you the link to the training and have an idea of the number of attendees. You can also just click the zoom link provided in the details section below when the training starts! We understand that many of us are hesitant to share personal information with strangers\, and we don’t require registration for attendance. We now use webinars on zoom so you do not have to log in with your email address! \nThis training is presented by We Keep Us Safe: El Pueblo Unido Contra ICE. We Keep Us Safe is a grassroots initiative to help the metro Denver area organize proactively and effectively to protect our community members from being inhumanely kidnapped by ICE. Our website is a hub of resources and best practices targeted towards the Denver area\, but many of the resources are statewide. We are educating and activating community members through canvassing\, training\, and outreach. Our goal is to support interested volunteers across the Metro Denver area in building community and solidarity–and to support volunteers in effectively self-organizing in the face of state violence.
URL:https://wkus-co.org/wordpress/event/community-defense-groups-virtual-training-we-keep-us-safe-co/
LOCATION:Virtual
END:VEVENT
END:VCALENDAR