BEGIN:VCALENDAR
VERSION:2.0
PRODID:-//We Keep Us Safe - ECPv6.15.20//NONSGML v1.0//EN
CALSCALE:GREGORIAN
METHOD:PUBLISH
X-ORIGINAL-URL:https://wkus-co.org/wordpress
X-WR-CALDESC:Events for We Keep Us Safe
REFRESH-INTERVAL;VALUE=DURATION:PT1H
X-Robots-Tag:noindex
X-PUBLISHED-TTL:PT1H
BEGIN:VTIMEZONE
TZID:America/Denver
BEGIN:DAYLIGHT
TZOFFSETFROM:-0700
TZOFFSETTO:-0600
TZNAME:MDT
DTSTART:20250309T090000
END:DAYLIGHT
BEGIN:STANDARD
TZOFFSETFROM:-0600
TZOFFSETTO:-0700
TZNAME:MST
DTSTART:20251102T080000
END:STANDARD
BEGIN:DAYLIGHT
TZOFFSETFROM:-0700
TZOFFSETTO:-0600
TZNAME:MDT
DTSTART:20260308T090000
END:DAYLIGHT
BEGIN:STANDARD
TZOFFSETFROM:-0600
TZOFFSETTO:-0700
TZNAME:MST
DTSTART:20261101T080000
END:STANDARD
BEGIN:DAYLIGHT
TZOFFSETFROM:-0700
TZOFFSETTO:-0600
TZNAME:MDT
DTSTART:20270314T090000
END:DAYLIGHT
BEGIN:STANDARD
TZOFFSETFROM:-0600
TZOFFSETTO:-0700
TZNAME:MST
DTSTART:20271107T080000
END:STANDARD
END:VTIMEZONE
BEGIN:VEVENT
DTSTART;TZID=America/Denver:20260128T170000
DTEND;TZID=America/Denver:20260128T183000
DTSTAMP:20260424T194104
CREATED:20260123T220841Z
LAST-MODIFIED:20260123T220841Z
UID:109-1769619600-1769625000@wkus-co.org
SUMMARY:ICE Watch and Community Defense - virtual - States at the Core\, Protect RP
DESCRIPTION:Join this 90-minute training from States at the Core and Protect RP on effectively protecting your neighborhoods from federal enforcement incursions. ICE Watch and other rapid response tactics are key strategies being used by people across the country to protect their communities against aggressive activity from federal law enforcement agencies like ICE and Border Patrol. Whether or not you are part of an established community response network\, this training will share important skills for building neighborhood resilience\, documenting ICE activity\, and supporting neighbors. In addition to covering the basics of ICE Watch\, we will discuss new analysis on ICE operations\, rapid response tactics\, and safety guidance. \n  \nSTAC is a partner that fills in resource gaps for community leaders and organizers across the country who are facing everything from white nationalist rallies to school board takeovers to political violence.
URL:https://wkus-co.org/wordpress/event/ice-watch-and-community-defense-virtual-states-at-the-core-protect-rp/
LOCATION:Virtual
END:VEVENT
END:VCALENDAR