BEGIN:VCALENDAR
VERSION:2.0
PRODID:-//We Keep Us Safe - ECPv6.15.20//NONSGML v1.0//EN
CALSCALE:GREGORIAN
METHOD:PUBLISH
X-ORIGINAL-URL:https://wkus-co.org/wordpress
X-WR-CALDESC:Events for We Keep Us Safe
REFRESH-INTERVAL;VALUE=DURATION:PT1H
X-Robots-Tag:noindex
X-PUBLISHED-TTL:PT1H
BEGIN:VTIMEZONE
TZID:America/Denver
BEGIN:DAYLIGHT
TZOFFSETFROM:-0700
TZOFFSETTO:-0600
TZNAME:MDT
DTSTART:20250309T090000
END:DAYLIGHT
BEGIN:STANDARD
TZOFFSETFROM:-0600
TZOFFSETTO:-0700
TZNAME:MST
DTSTART:20251102T080000
END:STANDARD
BEGIN:DAYLIGHT
TZOFFSETFROM:-0700
TZOFFSETTO:-0600
TZNAME:MDT
DTSTART:20260308T090000
END:DAYLIGHT
BEGIN:STANDARD
TZOFFSETFROM:-0600
TZOFFSETTO:-0700
TZNAME:MST
DTSTART:20261101T080000
END:STANDARD
BEGIN:DAYLIGHT
TZOFFSETFROM:-0700
TZOFFSETTO:-0600
TZNAME:MDT
DTSTART:20270314T090000
END:DAYLIGHT
BEGIN:STANDARD
TZOFFSETFROM:-0600
TZOFFSETTO:-0700
TZNAME:MST
DTSTART:20271107T080000
END:STANDARD
END:VTIMEZONE
BEGIN:VEVENT
DTSTART;TZID=America/Denver:20260115T170000
DTEND;TZID=America/Denver:20260115T180000
DTSTAMP:20260424T194141
CREATED:20260112T154531Z
LAST-MODIFIED:20260112T154840Z
UID:67-1768496400-1768500000@wkus-co.org
SUMMARY:How to be an effective advocate - Virtual - Center for Common Ground and The Workers Circle
DESCRIPTION:Join the Center for Common Ground and Workers Circle for the first effective advocate training of 2026 on Thursday\, January 15!  \nThis month\, we will dive into the Trump administration’s attacks on immigrants and the inhumane ICE operations that are abducting\, detaining\, and deporting our neighbors\, family members\, and friends. We will look at how the undermining of immigrants’ rights harms all of us and what you can do about it. \nDuring the training\, we will equip you with knowledge and resources to protect yourself\, your family\, and your community. The training will feature guest speakers with firsthand experience leading and supporting rapid response efforts to defend immigrant communities and keep one another safe. \n\n\n  \n\n\nThis event is virtual and requires registration to attend! The link with more information is provided below.
URL:https://wkus-co.org/wordpress/event/how-to-be-an-effective-advocate-virtual/
LOCATION:Virtual
END:VEVENT
BEGIN:VEVENT
DTSTART;TZID=America/Denver:20260115T180000
DTEND;TZID=America/Denver:20260115T190000
DTSTAMP:20260424T194141
CREATED:20260112T155339Z
LAST-MODIFIED:20260112T155339Z
UID:74-1768500000-1768503600@wkus-co.org
SUMMARY:Organizing works: Celebrating our Avelo wins & planning what next - Siembra NC's Defend and Recruit - Virtual
DESCRIPTION:Organizing works: celebrating our Avelo wins and planning what next – hosted by Siembra NC’s Defend and Recruit \nOn January 7th\, we won and loss. \nThanks to the work of tireless organizing around the country – actions\, boycotts\, local resolutions\, and so much more – we have WON. Avelo has announced they will be stopping their work with ICE. \nBut on the same day\, ICE murdered a civilian in Minnesota.  a mother who was lawfully observing the agents\, a constitutionally protected act of community defense. \nWhen we take a step forward\, it can feel like we’re continuously being pulled backward. ICE’s actions and intensity are growing\, and so must our movement. \nAnd as we watch ICE break national laws and constitutional rights\, and witness Trump’s brazen disregard for international law by kidnapping a head of State and threatening others\, we are grounded in our reality: WE are the ones who must hold ICE\, any corporation complicit in their horrific regime\, and our political representatives accountable. We must continue to protect us\, and we must continue to take action together. \nOn Thursday\, January 15th\, join our call at 8 PM ET / 5 PM PT to talk about what we did\, and what we’ll do next to take on Avelo and build immigration defense strategies\, groups\, and power in our communities. \nOur organizing is more important than ever. \n  \nThis event is entirely virtual and requires registration to attend. The link to more information is below.
URL:https://wkus-co.org/wordpress/event/organizing-works-celebrating-our-avelo-wins-planning-what-next-siembra-ncs-defend-and-recruit-virtual/
LOCATION:Virtual
END:VEVENT
END:VCALENDAR