BEGIN:VCALENDAR
VERSION:2.0
PRODID:-//We Keep Us Safe - ECPv6.15.20//NONSGML v1.0//EN
CALSCALE:GREGORIAN
METHOD:PUBLISH
X-ORIGINAL-URL:https://wkus-co.org/wordpress
X-WR-CALDESC:Events for We Keep Us Safe
REFRESH-INTERVAL;VALUE=DURATION:PT1H
X-Robots-Tag:noindex
X-PUBLISHED-TTL:PT1H
BEGIN:VTIMEZONE
TZID:America/Denver
BEGIN:DAYLIGHT
TZOFFSETFROM:-0700
TZOFFSETTO:-0600
TZNAME:MDT
DTSTART:20250309T090000
END:DAYLIGHT
BEGIN:STANDARD
TZOFFSETFROM:-0600
TZOFFSETTO:-0700
TZNAME:MST
DTSTART:20251102T080000
END:STANDARD
BEGIN:DAYLIGHT
TZOFFSETFROM:-0700
TZOFFSETTO:-0600
TZNAME:MDT
DTSTART:20260308T090000
END:DAYLIGHT
BEGIN:STANDARD
TZOFFSETFROM:-0600
TZOFFSETTO:-0700
TZNAME:MST
DTSTART:20261101T080000
END:STANDARD
BEGIN:DAYLIGHT
TZOFFSETFROM:-0700
TZOFFSETTO:-0600
TZNAME:MDT
DTSTART:20270314T090000
END:DAYLIGHT
BEGIN:STANDARD
TZOFFSETFROM:-0600
TZOFFSETTO:-0700
TZNAME:MST
DTSTART:20271107T080000
END:STANDARD
END:VTIMEZONE
BEGIN:VEVENT
DTSTART;TZID=America/Denver:20260107T170000
DTEND;TZID=America/Denver:20260107T180000
DTSTAMP:20260424T200639
CREATED:20251222T161711Z
LAST-MODIFIED:20251222T161711Z
UID:33-1767805200-1767808800@wkus-co.org
SUMMARY:Event Safety 101 - Indivisible
DESCRIPTION:Join us for an introductory Indivisible event safety training that covers how to help keep yourself and others safe at protests\, rallies\, and other Indivisible actions. Indivisibles are increasingly hosting more and greater diversity of events: rallies\, marches\, and other visibility actions. We need organizers\, leaders\, and safety staff for these actions\, creating the need to onboard and train more volunteers so we can magnify our impact. \nThis training is intended to build awareness of safety roles among our volunteer base\, equip volunteers to feel more confident apprenticing at events and taking on safety roles\, and provide a refresher to existing safety personnel of some of the guidance you may have seen before. \nThis 101 training repeats. It is the same training each time. We’ll cover topics like event hosting\, safety marshal work\, and de-escalation tactics.
URL:https://wkus-co.org/wordpress/event/event-safety-101-indivisible/
LOCATION:Virtual
END:VEVENT
END:VCALENDAR